BEGIN:VCALENDAR
VERSION:2.0
CALSCALE:GREGORIAN
PRODID:-//Diputació de Barcelona//DibaCMS//EN
BEGIN:VEVENT
UID:451
DTSTAMP:20260424T005307
DTSTART:20250717T000000
DTEND:20250831T000000
SUMMARY:VIU LESTIU A CERDANYOLA
LOCATION:
METHOD:PUBLISH
X-WR-CALNAME:st.juliac@diba.cat
X-WR-TIMEZONE:Europe/Madrid
DESCRIPTION:
URI:https://www.santjuliadecerdanyola.cat/actualitat/agenda/viu-lestiu-a-cerdanyola.html
CLASS:PUBLIC
END:VEVENT
END:VCALENDAR
