BEGIN:VCALENDAR
VERSION:2.0
CALSCALE:GREGORIAN
PRODID:-//Diputació de Barcelona//DibaCMS//EN
BEGIN:VEVENT
UID:328
DTSTAMP:20260422T061455
DTSTART:20210201T000000
DTEND:20210212T000000
SUMMARY:Descobreix Cerdanyola amb guia
LOCATION:
METHOD:PUBLISH
X-WR-CALNAME:st.juliac@diba.cat
X-WR-TIMEZONE:Europe/Madrid
DESCRIPTION:Per més informació, clic aquí:

http://www.visitbergueda.cat/


URI:https://www.santjuliadecerdanyola.cat/actualitat/agenda/328-descobreix-cerdanyola-amb-guia.html
CLASS:PUBLIC
END:VEVENT
END:VCALENDAR
