BEGIN:VCALENDAR
VERSION:2.0
CALSCALE:GREGORIAN
PRODID:-//Diputació de Barcelona//DibaCMS//EN
BEGIN:VEVENT
UID:268
DTSTAMP:20260422T061716
DTSTART:20191224T180000
DTEND:20191224T235500
SUMMARY:Fia-faia 2019
LOCATION:
METHOD:PUBLISH
X-WR-CALNAME:st.juliac@diba.cat
X-WR-TIMEZONE:Europe/Madrid
DESCRIPTION:
URI:https://www.santjuliadecerdanyola.cat/actualitat/agenda/fia-faia-2019.html
CLASS:PUBLIC
END:VEVENT
END:VCALENDAR
